BEGIN:VCALENDAR
VERSION:2.0
PRODID:-//Bloomsbury Books - ECPv6.15.20//NONSGML v1.0//EN
CALSCALE:GREGORIAN
METHOD:PUBLISH
X-ORIGINAL-URL:https://bloomsburyashland.com
X-WR-CALDESC:Events for Bloomsbury Books
REFRESH-INTERVAL;VALUE=DURATION:PT1H
X-Robots-Tag:noindex
X-PUBLISHED-TTL:PT1H
BEGIN:VTIMEZONE
TZID:America/Los_Angeles
BEGIN:DAYLIGHT
TZOFFSETFROM:-0800
TZOFFSETTO:-0700
TZNAME:PDT
DTSTART:20230312T100000
END:DAYLIGHT
BEGIN:STANDARD
TZOFFSETFROM:-0700
TZOFFSETTO:-0800
TZNAME:PST
DTSTART:20231105T090000
END:STANDARD
BEGIN:DAYLIGHT
TZOFFSETFROM:-0800
TZOFFSETTO:-0700
TZNAME:PDT
DTSTART:20240310T100000
END:DAYLIGHT
BEGIN:STANDARD
TZOFFSETFROM:-0700
TZOFFSETTO:-0800
TZNAME:PST
DTSTART:20241103T090000
END:STANDARD
BEGIN:DAYLIGHT
TZOFFSETFROM:-0800
TZOFFSETTO:-0700
TZNAME:PDT
DTSTART:20250309T100000
END:DAYLIGHT
BEGIN:STANDARD
TZOFFSETFROM:-0700
TZOFFSETTO:-0800
TZNAME:PST
DTSTART:20251102T090000
END:STANDARD
END:VTIMEZONE
BEGIN:VEVENT
DTSTART;TZID=America/Los_Angeles:20240129T190000
DTEND;TZID=America/Los_Angeles:20240129T200000
DTSTAMP:20260421T151347
CREATED:20240106T182322Z
LAST-MODIFIED:20240106T182322Z
UID:10000007-1706554800-1706558400@bloomsburyashland.com
SUMMARY:John Brennan talks about his new book Brain Shift
DESCRIPTION:Monday January 29th \n7 to 8 pm \nBrain Shift From Head to Heart \nIf I\, a military engineer\, can transmute to become a shamanic practitioner\, so can you.  Follow my transformational process as Nature and Native American ceremony awoke my true self.  It seems as if the helping spirits placed stepping stones in front of me. Every time I took one step and learned something they placed another stone in front of me. \nWe all have skills hidden by modern western cultural norms which you can find within yourself through shamanic journeying. Get answers to life’s questions through divination\, heal your own self through soul retrieval\, communicate with ancestors in journeys\, erase negative energies through ceremonies. \nAct when an opportunity is presented. Find out what makes you come fully alive. Do that. The world needs people who have come fully alive. \n 
URL:https://bloomsburyashland.com/event/john-brennan-talks-about-his-new-book-brain-shift/
LOCATION:Bloomsbury Books Ashland\, 290 East Main Street\, Ashland\, OR\, 97520\, United States
ATTACH;FMTTYPE=image/gif:https://bloomsburyashland.com/wp-content/uploads/brain.gif
END:VEVENT
BEGIN:VEVENT
DTSTART;TZID=America/Los_Angeles:20240122T190000
DTEND;TZID=America/Los_Angeles:20240122T200000
DTSTAMP:20260421T151347
CREATED:20240106T180625Z
LAST-MODIFIED:20240106T180625Z
UID:10000006-1705950000-1705953600@bloomsburyashland.com
SUMMARY:Lynn Ransford talks about her new book Grandma\, Tell Me a Story about Your Adventures
DESCRIPTION:Monday January 22nd \n7 to 8 pm \nGrandchildren\, and now readers of all ages\, enjoy the true tales of wacky\, rollicking adventures…sometimes poignant\, sometimes a little scary…like encountering bears\, a moose\, a bull\, or frogs in the middle of the night.  A retired teacher\, Lynn can’t resist inserting little bits of history into stories about places in the Rogue Valley or as far away as the Azores.   \n    If you like hiking\, camping\, traveling\, or prefer to enjoy adventures vicariously\, you are invited to join Lynn for an hour of entertaining short stories – and a reminder of how important it is to be able to laugh at ourselves and our funny predicaments.    \nLynn Ransford is an Ashland author and avid hiker. Her two previous books are “Grandma\, Tell Me a Story About Bears” and “Grandma\, Tell Me a Story About Critters”
URL:https://bloomsburyashland.com/event/lynn-ransford-talks-about-her-new-book-grandma-tell-me-a-story-about-your-adventures/
LOCATION:Bloomsbury Books Ashland\, 290 East Main Street\, Ashland\, OR\, 97520\, United States
ATTACH;FMTTYPE=image/jpeg:https://bloomsburyashland.com/wp-content/uploads/grandma.jpg
END:VEVENT
BEGIN:VEVENT
DTSTART;TZID=America/Los_Angeles:20240115T190000
DTEND;TZID=America/Los_Angeles:20240115T200000
DTSTAMP:20260421T151347
CREATED:20231227T232432Z
LAST-MODIFIED:20231228T013848Z
UID:10000001-1705345200-1705348800@bloomsburyashland.com
SUMMARY:Erin Zelinka will be talking about her new memoir On Love and Travel
DESCRIPTION:Monday January 15th  7 to 8 pm \nWhen an offbeat new job and office romance upend Erin Zelinka’s marriage\, career and belief system\, she flees for Latin America. From Peru to Colombia to the indigenous islands of Guna Yala\, she seeks to heal and trust her heart\, after a decade of striving for others’ approval. Whether crewing as a deckhand for an alcoholic captain or quitting all media to escape her failed love’s reach\, she starts living on her own terms. This story is the inspirational evidence that following your inner truth\, while not always easy\, will take you to precisely where you’re meant to be.
URL:https://bloomsburyashland.com/event/erin-zelinka-will-be-talking-about-her-new-memoir-on-love-and-travel/
LOCATION:Bloomsbury Books Ashland\, 290 East Main Street\, Ashland\, OR\, 97520\, United States
ATTACH;FMTTYPE=image/jpeg:https://bloomsburyashland.com/wp-content/uploads/loveandtravel.jpg
END:VEVENT
END:VCALENDAR